Workbook

Sheet Enquiry Form
J2: Project Reference
A3: Seascreen Roller
A4: Enquiry Form | I4: If Liner or Seal selected, and cell is red. R42 not selected
A5: Item | B5: Product size (Select) | C5: Width (Enter) | D5: Overall W | E5: Drop (Enter) | F5: Overall Drop | G5: Hardware Colour (Select) | H5: Fabric Colour (Select) | I5: Operation (Select) | J5: R42 Radius (Select) | K5: Liner Or Seal (Select) | L5: Quantity (Enter) | M5: Blind Location (Enter) | O5: Seaview Product Code
A6: 1 | D6: =IF($K6="Liner",IF($B6="Aperture",$C6,IF($B6="External",$C6-'Standard Hatch Sizes'!$F$4,_xlfn.XLOOKUP($B6,'Standard Hatch Sizes'!$D$5:$D$20,'Standard Hatch Sizes'!$F$5:$F$20)))+3,IF($B6="Aperture",$C6,IF($B6="External",$C6-'Standard Hatch Sizes'!$F$4,_xlfn.XLOOKUP($B6,'Standard Hatch Sizes'!$D$5:$D$20,'Standard Hatch Sizes'!$F$5:$F$20)))) -> #N/A | F6: =IF($K6="Liner",IF($B6="Aperture",$E6,IF($B6="External",$E6-'Standard Hatch Sizes'!$G$4,_xlfn.XLOOKUP($B6,'Standard Hatch Sizes'!$D$5:$D$20,'Standard Hatch Sizes'!$F$5:$F$20)))+3,IF($B6="Aperture",$E6,IF($B6="External",$E6-'Standard Hatch Sizes'!$G$4,_xlfn.XLOOKUP($B6,'Standard Hatch Sizes'!$D$5:$D$20,'Standard Hatch Sizes'!$F$5:$F$20)))) -> #N/A | O6: {=IFERROR(CONCATENATE("SSR","-",IF(OR(B6="External",B6="Aperture"),D6&"-"&F6,_xlfn.XLOOKUP(B6,'Standard Hatch Sizes'!$D$3:$D$20,'Standard Hatch Sizes'!$E$3:$E$20&"-"&D6&"-"&F6)),"-",VLOOKUP(G6,'Product Code'!$E$3:$F$4,2),"-",VLOOKUP(H6,'Product Code'!$H$3:$I$4,2),_xlfn.XLOOKUP(I6,'Product Code'!$P$3:$P$5,'Product Code'!$Q$3:$Q$5),IF(OR(K6="Seal",K6="Liner"),"-R42",VLOOKUP(J6,'Product Code'!$K$3:$L$4,2)),_xlfn.XLOOKUP(K6,'Product Code'!$M$3:$M$5,'Product Code'!$N$3:$N$5)),"")}
A7: =+A6+1 -> 2 | D7: =IF($K7="Liner",IF($B7="Aperture",$C7,IF($B7="External",$C7-'Standard Hatch Sizes'!$F$4,_xlfn.XLOOKUP($B7,'Standard Hatch Sizes'!$D$5:$D$20,'Standard Hatch Sizes'!$F$5:$F$20)))+3,IF($B7="Aperture",$C7,IF($B7="External",$C7-'Standard Hatch Sizes'!$F$4,_xlfn.XLOOKUP($B7,'Standard Hatch Sizes'!$D$5:$D$20,'Standard Hatch Sizes'!$F$5:$F$20)))) -> #N/A | F7: =IF($K7="Liner",IF($B7="Aperture",$E7,IF($B7="External",$E7-'Standard Hatch Sizes'!$G$4,_xlfn.XLOOKUP($B7,'Standard Hatch Sizes'!$D$5:$D$20,'Standard Hatch Sizes'!$F$5:$F$20)))+3,IF($B7="Aperture",$E7,IF($B7="External",$E7-'Standard Hatch Sizes'!$G$4,_xlfn.XLOOKUP($B7,'Standard Hatch Sizes'!$D$5:$D$20,'Standard Hatch Sizes'!$F$5:$F$20)))) -> #N/A | O7: {=IFERROR(CONCATENATE("SSR","-",IF(OR(B7="External",B7="Aperture"),D7&"-"&F7,_xlfn.XLOOKUP(B7,'Standard Hatch Sizes'!$D$3:$D$20,'Standard Hatch Sizes'!$E$3:$E$20&"-"&D7&"-"&F7)),"-",VLOOKUP(G7,'Product Code'!$E$3:$F$4,2),"-",VLOOKUP(H7,'Product Code'!$H$3:$I$4,2),_xlfn.XLOOKUP(I7,'Product Code'!$P$3:$P$5,'Product Code'!$Q$3:$Q$5),IF(OR(K7="Seal",K7="Liner"),"-R42",VLOOKUP(J7,'Product Code'!$K$3:$L$4,2)),_xlfn.XLOOKUP(K7,'Product Code'!$M$3:$M$5,'Product Code'!$N$3:$N$5)),"")}
A8: =+A7+1 -> 3 | D8: =IF($K8="Liner",IF($B8="Aperture",$C8,IF($B8="External",$C8-'Standard Hatch Sizes'!$F$4,_xlfn.XLOOKUP($B8,'Standard Hatch Sizes'!$D$5:$D$20,'Standard Hatch Sizes'!$F$5:$F$20)))+3,IF($B8="Aperture",$C8,IF($B8="External",$C8-'Standard Hatch Sizes'!$F$4,_xlfn.XLOOKUP($B8,'Standard Hatch Sizes'!$D$5:$D$20,'Standard Hatch Sizes'!$F$5:$F$20)))) -> #N/A | F8: =IF($K8="Liner",IF($B8="Aperture",$E8,IF($B8="External",$E8-'Standard Hatch Sizes'!$G$4,_xlfn.XLOOKUP($B8,'Standard Hatch Sizes'!$D$5:$D$20,'Standard Hatch Sizes'!$F$5:$F$20)))+3,IF($B8="Aperture",$E8,IF($B8="External",$E8-'Standard Hatch Sizes'!$G$4,_xlfn.XLOOKUP($B8,'Standard Hatch Sizes'!$D$5:$D$20,'Standard Hatch Sizes'!$F$5:$F$20)))) -> #N/A | O8: {=IFERROR(CONCATENATE("SSR","-",IF(OR(B8="External",B8="Aperture"),D8&"-"&F8,_xlfn.XLOOKUP(B8,'Standard Hatch Sizes'!$D$3:$D$20,'Standard Hatch Sizes'!$E$3:$E$20&"-"&D8&"-"&F8)),"-",VLOOKUP(G8,'Product Code'!$E$3:$F$4,2),"-",VLOOKUP(H8,'Product Code'!$H$3:$I$4,2),_xlfn.XLOOKUP(I8,'Product Code'!$P$3:$P$5,'Product Code'!$Q$3:$Q$5),IF(OR(K8="Seal",K8="Liner"),"-R42",VLOOKUP(J8,'Product Code'!$K$3:$L$4,2)),_xlfn.XLOOKUP(K8,'Product Code'!$M$3:$M$5,'Product Code'!$N$3:$N$5)),"")}
A9: =+A8+1 -> 4 | D9: =IF($K9="Liner",IF($B9="Aperture",$C9,IF($B9="External",$C9-'Standard Hatch Sizes'!$F$4,_xlfn.XLOOKUP($B9,'Standard Hatch Sizes'!$D$5:$D$20,'Standard Hatch Sizes'!$F$5:$F$20)))+3,IF($B9="Aperture",$C9,IF($B9="External",$C9-'Standard Hatch Sizes'!$F$4,_xlfn.XLOOKUP($B9,'Standard Hatch Sizes'!$D$5:$D$20,'Standard Hatch Sizes'!$F$5:$F$20)))) -> #N/A | F9: =IF($K9="Liner",IF($B9="Aperture",$E9,IF($B9="External",$E9-'Standard Hatch Sizes'!$G$4,_xlfn.XLOOKUP($B9,'Standard Hatch Sizes'!$D$5:$D$20,'Standard Hatch Sizes'!$F$5:$F$20)))+3,IF($B9="Aperture",$E9,IF($B9="External",$E9-'Standard Hatch Sizes'!$G$4,_xlfn.XLOOKUP($B9,'Standard Hatch Sizes'!$D$5:$D$20,'Standard Hatch Sizes'!$F$5:$F$20)))) -> #N/A | O9: {=IFERROR(CONCATENATE("SSR","-",IF(OR(B9="External",B9="Aperture"),D9&"-"&F9,_xlfn.XLOOKUP(B9,'Standard Hatch Sizes'!$D$3:$D$20,'Standard Hatch Sizes'!$E$3:$E$20&"-"&D9&"-"&F9)),"-",VLOOKUP(G9,'Product Code'!$E$3:$F$4,2),"-",VLOOKUP(H9,'Product Code'!$H$3:$I$4,2),_xlfn.XLOOKUP(I9,'Product Code'!$P$3:$P$5,'Product Code'!$Q$3:$Q$5),IF(OR(K9="Seal",K9="Liner"),"-R42",VLOOKUP(J9,'Product Code'!$K$3:$L$4,2)),_xlfn.XLOOKUP(K9,'Product Code'!$M$3:$M$5,'Product Code'!$N$3:$N$5)),"")}
A10: =+A9+1 -> 5 | D10: =IF($K10="Liner",IF($B10="Aperture",$C10,IF($B10="External",$C10-'Standard Hatch Sizes'!$F$4,_xlfn.XLOOKUP($B10,'Standard Hatch Sizes'!$D$5:$D$20,'Standard Hatch Sizes'!$F$5:$F$20)))+3,IF($B10="Aperture",$C10,IF($B10="External",$C10-'Standard Hatch Sizes'!$F$4,_xlfn.XLOOKUP($B10,'Standard Hatch Sizes'!$D$5:$D$20,'Standard Hatch Sizes'!$F$5:$F$20)))) -> #N/A | F10: =IF($K10="Liner",IF($B10="Aperture",$E10,IF($B10="External",$E10-'Standard Hatch Sizes'!$G$4,_xlfn.XLOOKUP($B10,'Standard Hatch Sizes'!$D$5:$D$20,'Standard Hatch Sizes'!$F$5:$F$20)))+3,IF($B10="Aperture",$E10,IF($B10="External",$E10-'Standard Hatch Sizes'!$G$4,_xlfn.XLOOKUP($B10,'Standard Hatch Sizes'!$D$5:$D$20,'Standard Hatch Sizes'!$F$5:$F$20)))) -> #N/A | O10: {=IFERROR(CONCATENATE("SSR","-",IF(OR(B10="External",B10="Aperture"),D10&"-"&F10,_xlfn.XLOOKUP(B10,'Standard Hatch Sizes'!$D$3:$D$20,'Standard Hatch Sizes'!$E$3:$E$20&"-"&D10&"-"&F10)),"-",VLOOKUP(G10,'Product Code'!$E$3:$F$4,2),"-",VLOOKUP(H10,'Product Code'!$H$3:$I$4,2),_xlfn.XLOOKUP(I10,'Product Code'!$P$3:$P$5,'Product Code'!$Q$3:$Q$5),IF(OR(K10="Seal",K10="Liner"),"-R42",VLOOKUP(J10,'Product Code'!$K$3:$L$4,2)),_xlfn.XLOOKUP(K10,'Product Code'!$M$3:$M$5,'Product Code'!$N$3:$N$5)),"")}
A11: =+A10+1 -> 6 | D11: =IF($K11="Liner",IF($B11="Aperture",$C11,IF($B11="External",$C11-'Standard Hatch Sizes'!$F$4,_xlfn.XLOOKUP($B11,'Standard Hatch Sizes'!$D$5:$D$20,'Standard Hatch Sizes'!$F$5:$F$20)))+3,IF($B11="Aperture",$C11,IF($B11="External",$C11-'Standard Hatch Sizes'!$F$4,_xlfn.XLOOKUP($B11,'Standard Hatch Sizes'!$D$5:$D$20,'Standard Hatch Sizes'!$F$5:$F$20)))) -> #N/A | F11: =IF($K11="Liner",IF($B11="Aperture",$E11,IF($B11="External",$E11-'Standard Hatch Sizes'!$G$4,_xlfn.XLOOKUP($B11,'Standard Hatch Sizes'!$D$5:$D$20,'Standard Hatch Sizes'!$F$5:$F$20)))+3,IF($B11="Aperture",$E11,IF($B11="External",$E11-'Standard Hatch Sizes'!$G$4,_xlfn.XLOOKUP($B11,'Standard Hatch Sizes'!$D$5:$D$20,'Standard Hatch Sizes'!$F$5:$F$20)))) -> #N/A | O11: {=IFERROR(CONCATENATE("SSR","-",IF(OR(B11="External",B11="Aperture"),D11&"-"&F11,_xlfn.XLOOKUP(B11,'Standard Hatch Sizes'!$D$3:$D$20,'Standard Hatch Sizes'!$E$3:$E$20&"-"&D11&"-"&F11)),"-",VLOOKUP(G11,'Product Code'!$E$3:$F$4,2),"-",VLOOKUP(H11,'Product Code'!$H$3:$I$4,2),_xlfn.XLOOKUP(I11,'Product Code'!$P$3:$P$5,'Product Code'!$Q$3:$Q$5),IF(OR(K11="Seal",K11="Liner"),"-R42",VLOOKUP(J11,'Product Code'!$K$3:$L$4,2)),_xlfn.XLOOKUP(K11,'Product Code'!$M$3:$M$5,'Product Code'!$N$3:$N$5)),"")}
A12: =+A11+1 -> 7 | D12: =IF($K12="Liner",IF($B12="Aperture",$C12,IF($B12="External",$C12-'Standard Hatch Sizes'!$F$4,_xlfn.XLOOKUP($B12,'Standard Hatch Sizes'!$D$5:$D$20,'Standard Hatch Sizes'!$F$5:$F$20)))+3,IF($B12="Aperture",$C12,IF($B12="External",$C12-'Standard Hatch Sizes'!$F$4,_xlfn.XLOOKUP($B12,'Standard Hatch Sizes'!$D$5:$D$20,'Standard Hatch Sizes'!$F$5:$F$20)))) -> #N/A | F12: =IF($K12="Liner",IF($B12="Aperture",$E12,IF($B12="External",$E12-'Standard Hatch Sizes'!$G$4,_xlfn.XLOOKUP($B12,'Standard Hatch Sizes'!$D$5:$D$20,'Standard Hatch Sizes'!$F$5:$F$20)))+3,IF($B12="Aperture",$E12,IF($B12="External",$E12-'Standard Hatch Sizes'!$G$4,_xlfn.XLOOKUP($B12,'Standard Hatch Sizes'!$D$5:$D$20,'Standard Hatch Sizes'!$F$5:$F$20)))) -> #N/A | O12: {=IFERROR(CONCATENATE("SSR","-",IF(OR(B12="External",B12="Aperture"),D12&"-"&F12,_xlfn.XLOOKUP(B12,'Standard Hatch Sizes'!$D$3:$D$20,'Standard Hatch Sizes'!$E$3:$E$20&"-"&D12&"-"&F12)),"-",VLOOKUP(G12,'Product Code'!$E$3:$F$4,2),"-",VLOOKUP(H12,'Product Code'!$H$3:$I$4,2),_xlfn.XLOOKUP(I12,'Product Code'!$P$3:$P$5,'Product Code'!$Q$3:$Q$5),IF(OR(K12="Seal",K12="Liner"),"-R42",VLOOKUP(J12,'Product Code'!$K$3:$L$4,2)),_xlfn.XLOOKUP(K12,'Product Code'!$M$3:$M$5,'Product Code'!$N$3:$N$5)),"")}
A13: =+A12+1 -> 8 | D13: =IF($K13="Liner",IF($B13="Aperture",$C13,IF($B13="External",$C13-'Standard Hatch Sizes'!$F$4,_xlfn.XLOOKUP($B13,'Standard Hatch Sizes'!$D$5:$D$20,'Standard Hatch Sizes'!$F$5:$F$20)))+3,IF($B13="Aperture",$C13,IF($B13="External",$C13-'Standard Hatch Sizes'!$F$4,_xlfn.XLOOKUP($B13,'Standard Hatch Sizes'!$D$5:$D$20,'Standard Hatch Sizes'!$F$5:$F$20)))) -> #N/A | F13: =IF($K13="Liner",IF($B13="Aperture",$E13,IF($B13="External",$E13-'Standard Hatch Sizes'!$G$4,_xlfn.XLOOKUP($B13,'Standard Hatch Sizes'!$D$5:$D$20,'Standard Hatch Sizes'!$F$5:$F$20)))+3,IF($B13="Aperture",$E13,IF($B13="External",$E13-'Standard Hatch Sizes'!$G$4,_xlfn.XLOOKUP($B13,'Standard Hatch Sizes'!$D$5:$D$20,'Standard Hatch Sizes'!$F$5:$F$20)))) -> #N/A | O13: {=IFERROR(CONCATENATE("SSR","-",IF(OR(B13="External",B13="Aperture"),D13&"-"&F13,_xlfn.XLOOKUP(B13,'Standard Hatch Sizes'!$D$3:$D$20,'Standard Hatch Sizes'!$E$3:$E$20&"-"&D13&"-"&F13)),"-",VLOOKUP(G13,'Product Code'!$E$3:$F$4,2),"-",VLOOKUP(H13,'Product Code'!$H$3:$I$4,2),_xlfn.XLOOKUP(I13,'Product Code'!$P$3:$P$5,'Product Code'!$Q$3:$Q$5),IF(OR(K13="Seal",K13="Liner"),"-R42",VLOOKUP(J13,'Product Code'!$K$3:$L$4,2)),_xlfn.XLOOKUP(K13,'Product Code'!$M$3:$M$5,'Product Code'!$N$3:$N$5)),"")}
A14: =+A13+1 -> 9 | D14: =IF($K14="Liner",IF($B14="Aperture",$C14,IF($B14="External",$C14-'Standard Hatch Sizes'!$F$4,_xlfn.XLOOKUP($B14,'Standard Hatch Sizes'!$D$5:$D$20,'Standard Hatch Sizes'!$F$5:$F$20)))+3,IF($B14="Aperture",$C14,IF($B14="External",$C14-'Standard Hatch Sizes'!$F$4,_xlfn.XLOOKUP($B14,'Standard Hatch Sizes'!$D$5:$D$20,'Standard Hatch Sizes'!$F$5:$F$20)))) -> #N/A | F14: =IF($K14="Liner",IF($B14="Aperture",$E14,IF($B14="External",$E14-'Standard Hatch Sizes'!$G$4,_xlfn.XLOOKUP($B14,'Standard Hatch Sizes'!$D$5:$D$20,'Standard Hatch Sizes'!$F$5:$F$20)))+3,IF($B14="Aperture",$E14,IF($B14="External",$E14-'Standard Hatch Sizes'!$G$4,_xlfn.XLOOKUP($B14,'Standard Hatch Sizes'!$D$5:$D$20,'Standard Hatch Sizes'!$F$5:$F$20)))) -> #N/A | O14: {=IFERROR(CONCATENATE("SSR","-",IF(OR(B14="External",B14="Aperture"),D14&"-"&F14,_xlfn.XLOOKUP(B14,'Standard Hatch Sizes'!$D$3:$D$20,'Standard Hatch Sizes'!$E$3:$E$20&"-"&D14&"-"&F14)),"-",VLOOKUP(G14,'Product Code'!$E$3:$F$4,2),"-",VLOOKUP(H14,'Product Code'!$H$3:$I$4,2),_xlfn.XLOOKUP(I14,'Product Code'!$P$3:$P$5,'Product Code'!$Q$3:$Q$5),IF(OR(K14="Seal",K14="Liner"),"-R42",VLOOKUP(J14,'Product Code'!$K$3:$L$4,2)),_xlfn.XLOOKUP(K14,'Product Code'!$M$3:$M$5,'Product Code'!$N$3:$N$5)),"")}
A15: =+A14+1 -> 10 | D15: =IF($K15="Liner",IF($B15="Aperture",$C15,IF($B15="External",$C15-'Standard Hatch Sizes'!$F$4,_xlfn.XLOOKUP($B15,'Standard Hatch Sizes'!$D$5:$D$20,'Standard Hatch Sizes'!$F$5:$F$20)))+3,IF($B15="Aperture",$C15,IF($B15="External",$C15-'Standard Hatch Sizes'!$F$4,_xlfn.XLOOKUP($B15,'Standard Hatch Sizes'!$D$5:$D$20,'Standard Hatch Sizes'!$F$5:$F$20)))) -> #N/A | F15: =IF($K15="Liner",IF($B15="Aperture",$E15,IF($B15="External",$E15-'Standard Hatch Sizes'!$G$4,_xlfn.XLOOKUP($B15,'Standard Hatch Sizes'!$D$5:$D$20,'Standard Hatch Sizes'!$F$5:$F$20)))+3,IF($B15="Aperture",$E15,IF($B15="External",$E15-'Standard Hatch Sizes'!$G$4,_xlfn.XLOOKUP($B15,'Standard Hatch Sizes'!$D$5:$D$20,'Standard Hatch Sizes'!$F$5:$F$20)))) -> #N/A | O15: {=IFERROR(CONCATENATE("SSR","-",IF(OR(B15="External",B15="Aperture"),D15&"-"&F15,_xlfn.XLOOKUP(B15,'Standard Hatch Sizes'!$D$3:$D$20,'Standard Hatch Sizes'!$E$3:$E$20&"-"&D15&"-"&F15)),"-",VLOOKUP(G15,'Product Code'!$E$3:$F$4,2),"-",VLOOKUP(H15,'Product Code'!$H$3:$I$4,2),_xlfn.XLOOKUP(I15,'Product Code'!$P$3:$P$5,'Product Code'!$Q$3:$Q$5),IF(OR(K15="Seal",K15="Liner"),"-R42",VLOOKUP(J15,'Product Code'!$K$3:$L$4,2)),_xlfn.XLOOKUP(K15,'Product Code'!$M$3:$M$5,'Product Code'!$N$3:$N$5)),"")}
A16: * Measurements should be aperture size - please see our website | I16: =IF(OR(COUNTIF(K6:K15,"L*")>=1,COUNTIF(K6:K15,"S*")>=1),"WHEN LINER OR SEAL IS SELECTED, R42 IS AUTOMATICALLY ADDED","")
A17: Notes | K17: Date
K18: Customer Name
K19: Customer Email
K20: Customer Tel. Number
K22: Customer Address
A25: 1. 5% discount for 11+ units. 2. Quantities of 20+ are on special quotation. 3. Prices based on aperture dimensions. 4. All prices are Ex Works, Ex VAT & supplied only in pounds sterling.
H33: `

Sheet Standard Hatch Sizes
C2: Product | D2: Make | E2: Code | F2: W (mm) | G2: H (mm)
D3: Aperture
D4: External | F4: 41 | G4: 61
C5: Seascreen Roller | D5: Lewmar 10 | E5: L10 | F5: 260 | G5: 260
C6: Seascreen Roller | D6: Lewmar 20 | E6: L20 | F6: 347 | G6: 202
C7: Seascreen Roller | D7: Lewmar 30 | E7: L30 | F7: 457 | G7: 327
C8: Seascreen Roller | D8: Lewmar 40 | E8: L40 | F8: 421 | G8: 421
C9: Seascreen Roller | D9: Lewmar 44 | E9: L44 | F9: 442 | G9: 442
C10: Seascreen Roller | D10: Lewmar 50 | E10: L50 | F10: 507 | G10: 377
C11: Seascreen Roller | D11: Lewmar 54 | E11: L54 | F11: 507 | G11: 392
C12: Seascreen Roller | D12: Lewmar 60 | E12: L60 | F12: 507 | G12: 507
C13: Seascreen Roller | D13: Lewmar 70 | E13: L70 | F13: 627 | G13: 627
D14: Bowmar 1000 | E14: B1000 | F14: 273 | G14: 273
D15: Bowmar 1011 | E15: B1011 | F15: 365 | G15: 232
D16: Bowmar 1029 | E16: B1029 | F16: 470 | G16: 340
D17: Bowmar 1039 | E17: B1039 | F17: 513 | G17: 513
D18: Bowmar 1049 | E18: B1049 | F18: 638 | G18: 638
D19: Bowmar 1070 | E19: B1070 | F19: 421 | G19: 421
D20: Bowmar 1080 | E20: B1080 | F20: 470 | G20: 470

Sheet Product Code
B2: Dimenson Type | E2: Hardware colour | F2: Code | H2: Fabric Colour | I2: Code | K2: Corner | M2: Liner | P2: Operation
B3: Seacreen Roller | C3: SSR | E3: Ivory | F3: IVY | H3: Ivory | I3: IVY | K3: None | M3: Liner | N3: -L | P3: Standard
E4: White | F4: WHT | H4: White | I4: WHT | K4: R42 | L4: -R42 | M4: Seal | N4: -S | P4: Fly/Fly MiM | Q4: -FFM
M5: None | P5: BO/BO MiM | Q5: -BBM
