Workbook

Sheet Enquiry Form
M2: Project Reference
A3: SEASCREEN Integrated
A4: Enquiry Form | V4: 0.05
A5: Item | B5: Size Type (Select) | C5: Format | D5: Custom Width (W) mm (Enter) | E5: Lewmar Size | F5: Custom Drop (H) mm (Enter) | G5: Lewmar Size | H5: Size Format | I5: Hardware Colour (Select) | J5: Fabric Colour (Select) | K5: Format | L5: Format (Select) | M5: R42 Radius (Select) | N5: Liner or Seal (Select) | O5: Damper (Select) | P5: Quantity (Enter) | Q5: Blind Location (Optional) (Enter) | S5: Seaview Product Code | U5: Matrix | V5: Dampner | W5: Total
A6: 1 | C6: =IF(OR(B6="Aperture",B6="External",B6=""),"", "L") | E6: =_xlfn.XLOOKUP(B6,'Blind Sizes'!$D$5:$D$14,'Blind Sizes'!$F$5:$F$14) -> #N/A | G6: =_xlfn.XLOOKUP(B6,'Blind Sizes'!$D$5:$D$14,'Blind Sizes'!$G$5:$G$14) -> #N/A | H6: =IF(L6="Blackout/Fly - Full Travel ",1,0) -> 0 | K6: =IF(L6="Fly/Fly - Meet in Middle",1,0) -> 0 | S6: =_xlfn.TEXTJOIN("-",TRUE, "SSI",_xlfn.IFNA(_xlfn.XLOOKUP(TRIM(B6),'Blind Sizes'!D3:D21,'Blind Sizes'!E3:E21,""),""), IF(TRIM(B6)="Aperture", IFERROR(VALUE(D6)&"-"&VALUE(F6),""), IF(TRIM(B6)="External", IFERROR((VALUE(D6)-29)&"-"&(VALUE(F6)-52),""), _xlfn.IFNA(_xlfn.XLOOKUP(TRIM(B6),'Blind Sizes'!$D$5:$D$21,'Blind Sizes'!$F$5:$F$21,""),"") &"-"& _xlfn.IFNA(_xlfn.XLOOKUP(TRIM(B6),'Blind Sizes'!$D$5:$D$21,'Blind Sizes'!$G$5:$G$21,""),""))), _xlfn.IFNA(_xlfn.XLOOKUP(I6,'Product Code'!$B$3:$B$4,'Product Code'!$C$3:$C$4,""),""), IF($K6>0,"FLY",_xlfn.IFNA(_xlfn.XLOOKUP(J6,'Product Code'!$E$3:$E$5,'Product Code'!$F$3:$F$5,""),"")), _xlfn.IFNA(_xlfn.XLOOKUP(L6,'Product Code'!$H$3:$H$5,'Product Code'!$I$3:$I$5,""),""), _xlfn.IFNA(_xlfn.XLOOKUP(M6,'Product Code'!$K$3:$K$4,'Product Code'!$L$3:$L$4,""),""), _xlfn.IFNA(_xlfn.XLOOKUP(N6,'Product Code'!$N$3:$N$5,'Product Code'!$O$3:$O$5,""),""), IF(OR(O6="Yes",IFERROR(D6,0)>399,IFERROR(E6,0)>399),"D","")) -> SSI-- | U6: 224.32 | V6: =U6*V4 -> 11.216 | W6: =U6+V6 -> 235.536
A7: =+A6+1 -> 2 | C7: =IF(OR(B7="Aperture",B7="External",B7=""),"", "L") | E7: =_xlfn.XLOOKUP(B7,'Blind Sizes'!$D$5:$D$14,'Blind Sizes'!$F$5:$F$14) -> #N/A | G7: =_xlfn.XLOOKUP(B7,'Blind Sizes'!$D$5:$D$14,'Blind Sizes'!$G$5:$G$14) -> #N/A | H7: =IF(L7="Blackout/Fly - Full Travel ",1,0) -> 0 | K7: =IF(L7="Fly/Fly - Meet in Middle",1,0) -> 0 | S7: =_xlfn.TEXTJOIN("-",TRUE, "SSI",_xlfn.IFNA(_xlfn.XLOOKUP(TRIM(B7),'Blind Sizes'!D4:D22,'Blind Sizes'!E4:E22,""),""), IF(TRIM(B7)="Aperture", IFERROR(VALUE(D7)&"-"&VALUE(F7),""), IF(TRIM(B7)="External", IFERROR((VALUE(D7)-29)&"-"&(VALUE(F7)-52),""), _xlfn.IFNA(_xlfn.XLOOKUP(TRIM(B7),'Blind Sizes'!$D$5:$D$21,'Blind Sizes'!$F$5:$F$21,""),"") &"-"& _xlfn.IFNA(_xlfn.XLOOKUP(TRIM(B7),'Blind Sizes'!$D$5:$D$21,'Blind Sizes'!$G$5:$G$21,""),""))), _xlfn.IFNA(_xlfn.XLOOKUP(I7,'Product Code'!$B$3:$B$4,'Product Code'!$C$3:$C$4,""),""), IF($K7>0,"FLY",_xlfn.IFNA(_xlfn.XLOOKUP(J7,'Product Code'!$E$3:$E$5,'Product Code'!$F$3:$F$5,""),"")), _xlfn.IFNA(_xlfn.XLOOKUP(L7,'Product Code'!$H$3:$H$5,'Product Code'!$I$3:$I$5,""),""), _xlfn.IFNA(_xlfn.XLOOKUP(M7,'Product Code'!$K$3:$K$4,'Product Code'!$L$3:$L$4,""),""), _xlfn.IFNA(_xlfn.XLOOKUP(N7,'Product Code'!$N$3:$N$5,'Product Code'!$O$3:$O$5,""),""), IF(OR(O7="Yes",IFERROR(D7,0)>399,IFERROR(E7,0)>399),"D","")) -> SSI-- | U7: 224.32 | V7: =U7*V4 -> 11.216 | W7: =U7+V7 -> 235.536
A8: =+A7+1 -> 3 | C8: =IF(OR(B8="Aperture",B8="External",B8=""),"", "L") | E8: =_xlfn.XLOOKUP(B8,'Blind Sizes'!$D$5:$D$14,'Blind Sizes'!$F$5:$F$14) -> #N/A | G8: =_xlfn.XLOOKUP(B8,'Blind Sizes'!$D$5:$D$14,'Blind Sizes'!$G$5:$G$14) -> #N/A | H8: =IF(L8="Blackout/Fly - Full Travel ",1,0) -> 0 | K8: =IF(L8="Fly/Fly - Meet in Middle",1,0) -> 0 | S8: =_xlfn.TEXTJOIN("-",TRUE, "SSI",_xlfn.IFNA(_xlfn.XLOOKUP(TRIM(B8),'Blind Sizes'!D5:D23,'Blind Sizes'!E5:E23,""),""), IF(TRIM(B8)="Aperture", IFERROR(VALUE(D8)&"-"&VALUE(F8),""), IF(TRIM(B8)="External", IFERROR((VALUE(D8)-29)&"-"&(VALUE(F8)-52),""), _xlfn.IFNA(_xlfn.XLOOKUP(TRIM(B8),'Blind Sizes'!$D$5:$D$21,'Blind Sizes'!$F$5:$F$21,""),"") &"-"& _xlfn.IFNA(_xlfn.XLOOKUP(TRIM(B8),'Blind Sizes'!$D$5:$D$21,'Blind Sizes'!$G$5:$G$21,""),""))), _xlfn.IFNA(_xlfn.XLOOKUP(I8,'Product Code'!$B$3:$B$4,'Product Code'!$C$3:$C$4,""),""), IF($K8>0,"FLY",_xlfn.IFNA(_xlfn.XLOOKUP(J8,'Product Code'!$E$3:$E$5,'Product Code'!$F$3:$F$5,""),"")), _xlfn.IFNA(_xlfn.XLOOKUP(L8,'Product Code'!$H$3:$H$5,'Product Code'!$I$3:$I$5,""),""), _xlfn.IFNA(_xlfn.XLOOKUP(M8,'Product Code'!$K$3:$K$4,'Product Code'!$L$3:$L$4,""),""), _xlfn.IFNA(_xlfn.XLOOKUP(N8,'Product Code'!$N$3:$N$5,'Product Code'!$O$3:$O$5,""),""), IF(OR(O8="Yes",IFERROR(D8,0)>399,IFERROR(E8,0)>399),"D","")) -> SSI-- | U8: 226.32 | V8: =U8*V4 -> 11.316 | W8: =U8+V8 -> 237.636
A9: =+A8+1 -> 4 | C9: =IF(OR(B9="Aperture",B9="External",B9=""),"", "L") | E9: =_xlfn.XLOOKUP(B9,'Blind Sizes'!$D$5:$D$14,'Blind Sizes'!$F$5:$F$14) -> #N/A | G9: =_xlfn.XLOOKUP(B9,'Blind Sizes'!$D$5:$D$14,'Blind Sizes'!$G$5:$G$14) -> #N/A | H9: =IF(L9="Blackout/Fly - Full Travel ",1,0) -> 0 | K9: =IF(L9="Fly/Fly - Meet in Middle",1,0) -> 0 | S9: =_xlfn.TEXTJOIN("-",TRUE, "SSI",_xlfn.IFNA(_xlfn.XLOOKUP(TRIM(B9),'Blind Sizes'!D6:D24,'Blind Sizes'!E6:E24,""),""), IF(TRIM(B9)="Aperture", IFERROR(VALUE(D9)&"-"&VALUE(F9),""), IF(TRIM(B9)="External", IFERROR((VALUE(D9)-29)&"-"&(VALUE(F9)-52),""), _xlfn.IFNA(_xlfn.XLOOKUP(TRIM(B9),'Blind Sizes'!$D$5:$D$21,'Blind Sizes'!$F$5:$F$21,""),"") &"-"& _xlfn.IFNA(_xlfn.XLOOKUP(TRIM(B9),'Blind Sizes'!$D$5:$D$21,'Blind Sizes'!$G$5:$G$21,""),""))), _xlfn.IFNA(_xlfn.XLOOKUP(I9,'Product Code'!$B$3:$B$4,'Product Code'!$C$3:$C$4,""),""), IF($K9>0,"FLY",_xlfn.IFNA(_xlfn.XLOOKUP(J9,'Product Code'!$E$3:$E$5,'Product Code'!$F$3:$F$5,""),"")), _xlfn.IFNA(_xlfn.XLOOKUP(L9,'Product Code'!$H$3:$H$5,'Product Code'!$I$3:$I$5,""),""), _xlfn.IFNA(_xlfn.XLOOKUP(M9,'Product Code'!$K$3:$K$4,'Product Code'!$L$3:$L$4,""),""), _xlfn.IFNA(_xlfn.XLOOKUP(N9,'Product Code'!$N$3:$N$5,'Product Code'!$O$3:$O$5,""),""), IF(OR(O9="Yes",IFERROR(D9,0)>399,IFERROR(E9,0)>399),"D","")) -> SSI--
A10: =+A9+1 -> 5 | C10: =IF(OR(B10="Aperture",B10="External",B10=""),"", "L") | E10: =_xlfn.XLOOKUP(B10,'Blind Sizes'!$D$5:$D$14,'Blind Sizes'!$F$5:$F$14) -> #N/A | G10: =_xlfn.XLOOKUP(B10,'Blind Sizes'!$D$5:$D$14,'Blind Sizes'!$G$5:$G$14) -> #N/A | H10: =IF(L10="Blackout/Fly - Full Travel ",1,0) -> 0 | K10: =IF(L10="Fly/Fly - Meet in Middle",1,0) -> 0 | S10: =_xlfn.TEXTJOIN("-",TRUE, "SSI",_xlfn.IFNA(_xlfn.XLOOKUP(TRIM(B10),'Blind Sizes'!D7:D25,'Blind Sizes'!E7:E25,""),""), IF(TRIM(B10)="Aperture", IFERROR(VALUE(D10)&"-"&VALUE(F10),""), IF(TRIM(B10)="External", IFERROR((VALUE(D10)-29)&"-"&(VALUE(F10)-52),""), _xlfn.IFNA(_xlfn.XLOOKUP(TRIM(B10),'Blind Sizes'!$D$5:$D$21,'Blind Sizes'!$F$5:$F$21,""),"") &"-"& _xlfn.IFNA(_xlfn.XLOOKUP(TRIM(B10),'Blind Sizes'!$D$5:$D$21,'Blind Sizes'!$G$5:$G$21,""),""))), _xlfn.IFNA(_xlfn.XLOOKUP(I10,'Product Code'!$B$3:$B$4,'Product Code'!$C$3:$C$4,""),""), IF($K10>0,"FLY",_xlfn.IFNA(_xlfn.XLOOKUP(J10,'Product Code'!$E$3:$E$5,'Product Code'!$F$3:$F$5,""),"")), _xlfn.IFNA(_xlfn.XLOOKUP(L10,'Product Code'!$H$3:$H$5,'Product Code'!$I$3:$I$5,""),""), _xlfn.IFNA(_xlfn.XLOOKUP(M10,'Product Code'!$K$3:$K$4,'Product Code'!$L$3:$L$4,""),""), _xlfn.IFNA(_xlfn.XLOOKUP(N10,'Product Code'!$N$3:$N$5,'Product Code'!$O$3:$O$5,""),""), IF(OR(O10="Yes",IFERROR(D10,0)>399,IFERROR(E10,0)>399),"D","")) -> SSI--
A11: =+A10+1 -> 6 | C11: =IF(OR(B11="Aperture",B11="External",B11=""),"", "L") | E11: =_xlfn.XLOOKUP(B11,'Blind Sizes'!$D$5:$D$14,'Blind Sizes'!$F$5:$F$14) -> #N/A | G11: =_xlfn.XLOOKUP(B11,'Blind Sizes'!$D$5:$D$14,'Blind Sizes'!$G$5:$G$14) -> #N/A | H11: =IF(L11="Blackout/Fly - Full Travel ",1,0) -> 0 | K11: =IF(L11="Fly/Fly - Meet in Middle",1,0) -> 0 | S11: =_xlfn.TEXTJOIN("-",TRUE, "SSI",_xlfn.IFNA(_xlfn.XLOOKUP(TRIM(B11),'Blind Sizes'!D8:D26,'Blind Sizes'!E8:E26,""),""), IF(TRIM(B11)="Aperture", IFERROR(VALUE(D11)&"-"&VALUE(F11),""), IF(TRIM(B11)="External", IFERROR((VALUE(D11)-29)&"-"&(VALUE(F11)-52),""), _xlfn.IFNA(_xlfn.XLOOKUP(TRIM(B11),'Blind Sizes'!$D$5:$D$21,'Blind Sizes'!$F$5:$F$21,""),"") &"-"& _xlfn.IFNA(_xlfn.XLOOKUP(TRIM(B11),'Blind Sizes'!$D$5:$D$21,'Blind Sizes'!$G$5:$G$21,""),""))), _xlfn.IFNA(_xlfn.XLOOKUP(I11,'Product Code'!$B$3:$B$4,'Product Code'!$C$3:$C$4,""),""), IF($K11>0,"FLY",_xlfn.IFNA(_xlfn.XLOOKUP(J11,'Product Code'!$E$3:$E$5,'Product Code'!$F$3:$F$5,""),"")), _xlfn.IFNA(_xlfn.XLOOKUP(L11,'Product Code'!$H$3:$H$5,'Product Code'!$I$3:$I$5,""),""), _xlfn.IFNA(_xlfn.XLOOKUP(M11,'Product Code'!$K$3:$K$4,'Product Code'!$L$3:$L$4,""),""), _xlfn.IFNA(_xlfn.XLOOKUP(N11,'Product Code'!$N$3:$N$5,'Product Code'!$O$3:$O$5,""),""), IF(OR(O11="Yes",IFERROR(D11,0)>399,IFERROR(E11,0)>399),"D","")) -> SSI--
A12: =+A11+1 -> 7 | C12: =IF(OR(B12="Aperture",B12="External",B12=""),"", "L") | E12: =_xlfn.XLOOKUP(B12,'Blind Sizes'!$D$5:$D$14,'Blind Sizes'!$F$5:$F$14) -> #N/A | G12: =_xlfn.XLOOKUP(B12,'Blind Sizes'!$D$5:$D$14,'Blind Sizes'!$G$5:$G$14) -> #N/A | H12: =IF(L12="Blackout/Fly - Full Travel ",1,0) -> 0 | K12: =IF(L12="Fly/Fly - Meet in Middle",1,0) -> 0 | S12: =_xlfn.TEXTJOIN("-",TRUE, "SSI",_xlfn.IFNA(_xlfn.XLOOKUP(TRIM(B12),'Blind Sizes'!D9:D27,'Blind Sizes'!E9:E27,""),""), IF(TRIM(B12)="Aperture", IFERROR(VALUE(D12)&"-"&VALUE(F12),""), IF(TRIM(B12)="External", IFERROR((VALUE(D12)-29)&"-"&(VALUE(F12)-52),""), _xlfn.IFNA(_xlfn.XLOOKUP(TRIM(B12),'Blind Sizes'!$D$5:$D$21,'Blind Sizes'!$F$5:$F$21,""),"") &"-"& _xlfn.IFNA(_xlfn.XLOOKUP(TRIM(B12),'Blind Sizes'!$D$5:$D$21,'Blind Sizes'!$G$5:$G$21,""),""))), _xlfn.IFNA(_xlfn.XLOOKUP(I12,'Product Code'!$B$3:$B$4,'Product Code'!$C$3:$C$4,""),""), IF($K12>0,"FLY",_xlfn.IFNA(_xlfn.XLOOKUP(J12,'Product Code'!$E$3:$E$5,'Product Code'!$F$3:$F$5,""),"")), _xlfn.IFNA(_xlfn.XLOOKUP(L12,'Product Code'!$H$3:$H$5,'Product Code'!$I$3:$I$5,""),""), _xlfn.IFNA(_xlfn.XLOOKUP(M12,'Product Code'!$K$3:$K$4,'Product Code'!$L$3:$L$4,""),""), _xlfn.IFNA(_xlfn.XLOOKUP(N12,'Product Code'!$N$3:$N$5,'Product Code'!$O$3:$O$5,""),""), IF(OR(O12="Yes",IFERROR(D12,0)>399,IFERROR(E12,0)>399),"D","")) -> SSI--
A13: =+A12+1 -> 8 | C13: =IF(OR(B13="Aperture",B13="External",B13=""),"", "L") | E13: =_xlfn.XLOOKUP(B13,'Blind Sizes'!$D$5:$D$14,'Blind Sizes'!$F$5:$F$14) -> #N/A | G13: =_xlfn.XLOOKUP(B13,'Blind Sizes'!$D$5:$D$14,'Blind Sizes'!$G$5:$G$14) -> #N/A | H13: =IF(L13="Blackout/Fly - Full Travel ",1,0) -> 0 | K13: =IF(L13="Fly/Fly - Meet in Middle",1,0) -> 0 | S13: =_xlfn.TEXTJOIN("-",TRUE, "SSI",_xlfn.IFNA(_xlfn.XLOOKUP(TRIM(B13),'Blind Sizes'!D10:D28,'Blind Sizes'!E10:E28,""),""), IF(TRIM(B13)="Aperture", IFERROR(VALUE(D13)&"-"&VALUE(F13),""), IF(TRIM(B13)="External", IFERROR((VALUE(D13)-29)&"-"&(VALUE(F13)-52),""), _xlfn.IFNA(_xlfn.XLOOKUP(TRIM(B13),'Blind Sizes'!$D$5:$D$21,'Blind Sizes'!$F$5:$F$21,""),"") &"-"& _xlfn.IFNA(_xlfn.XLOOKUP(TRIM(B13),'Blind Sizes'!$D$5:$D$21,'Blind Sizes'!$G$5:$G$21,""),""))), _xlfn.IFNA(_xlfn.XLOOKUP(I13,'Product Code'!$B$3:$B$4,'Product Code'!$C$3:$C$4,""),""), IF($K13>0,"FLY",_xlfn.IFNA(_xlfn.XLOOKUP(J13,'Product Code'!$E$3:$E$5,'Product Code'!$F$3:$F$5,""),"")), _xlfn.IFNA(_xlfn.XLOOKUP(L13,'Product Code'!$H$3:$H$5,'Product Code'!$I$3:$I$5,""),""), _xlfn.IFNA(_xlfn.XLOOKUP(M13,'Product Code'!$K$3:$K$4,'Product Code'!$L$3:$L$4,""),""), _xlfn.IFNA(_xlfn.XLOOKUP(N13,'Product Code'!$N$3:$N$5,'Product Code'!$O$3:$O$5,""),""), IF(OR(O13="Yes",IFERROR(D13,0)>399,IFERROR(E13,0)>399),"D","")) -> SSI--
A14: =+A13+1 -> 9 | C14: =IF(OR(B14="Aperture",B14="External",B14=""),"", "L") | E14: =_xlfn.XLOOKUP(B14,'Blind Sizes'!$D$5:$D$14,'Blind Sizes'!$F$5:$F$14) -> #N/A | G14: =_xlfn.XLOOKUP(B14,'Blind Sizes'!$D$5:$D$14,'Blind Sizes'!$G$5:$G$14) -> #N/A | H14: =IF(L14="Blackout/Fly - Full Travel ",1,0) -> 0 | K14: =IF(L14="Fly/Fly - Meet in Middle",1,0) -> 0 | S14: =_xlfn.TEXTJOIN("-",TRUE, "SSI",_xlfn.IFNA(_xlfn.XLOOKUP(TRIM(B14),'Blind Sizes'!D11:D29,'Blind Sizes'!E11:E29,""),""), IF(TRIM(B14)="Aperture", IFERROR(VALUE(D14)&"-"&VALUE(F14),""), IF(TRIM(B14)="External", IFERROR((VALUE(D14)-29)&"-"&(VALUE(F14)-52),""), _xlfn.IFNA(_xlfn.XLOOKUP(TRIM(B14),'Blind Sizes'!$D$5:$D$21,'Blind Sizes'!$F$5:$F$21,""),"") &"-"& _xlfn.IFNA(_xlfn.XLOOKUP(TRIM(B14),'Blind Sizes'!$D$5:$D$21,'Blind Sizes'!$G$5:$G$21,""),""))), _xlfn.IFNA(_xlfn.XLOOKUP(I14,'Product Code'!$B$3:$B$4,'Product Code'!$C$3:$C$4,""),""), IF($K14>0,"FLY",_xlfn.IFNA(_xlfn.XLOOKUP(J14,'Product Code'!$E$3:$E$5,'Product Code'!$F$3:$F$5,""),"")), _xlfn.IFNA(_xlfn.XLOOKUP(L14,'Product Code'!$H$3:$H$5,'Product Code'!$I$3:$I$5,""),""), _xlfn.IFNA(_xlfn.XLOOKUP(M14,'Product Code'!$K$3:$K$4,'Product Code'!$L$3:$L$4,""),""), _xlfn.IFNA(_xlfn.XLOOKUP(N14,'Product Code'!$N$3:$N$5,'Product Code'!$O$3:$O$5,""),""), IF(OR(O14="Yes",IFERROR(D14,0)>399,IFERROR(E14,0)>399),"D","")) -> SSI--
A15: =+A14+1 -> 10 | C15: =IF(OR(B15="Aperture",B15="External",B15=""),"", "L") | E15: =_xlfn.XLOOKUP(B15,'Blind Sizes'!$D$5:$D$14,'Blind Sizes'!$F$5:$F$14) -> #N/A | G15: =_xlfn.XLOOKUP(B15,'Blind Sizes'!$D$5:$D$14,'Blind Sizes'!$G$5:$G$14) -> #N/A | H15: =IF(L15="Blackout/Fly - Full Travel ",1,0) -> 0 | K15: =IF(L15="Fly/Fly - Meet in Middle",1,0) -> 0 | S15: =_xlfn.TEXTJOIN("-",TRUE, "SSI",_xlfn.IFNA(_xlfn.XLOOKUP(TRIM(B15),'Blind Sizes'!D12:D30,'Blind Sizes'!E12:E30,""),""), IF(TRIM(B15)="Aperture", IFERROR(VALUE(D15)&"-"&VALUE(F15),""), IF(TRIM(B15)="External", IFERROR((VALUE(D15)-29)&"-"&(VALUE(F15)-52),""), _xlfn.IFNA(_xlfn.XLOOKUP(TRIM(B15),'Blind Sizes'!$D$5:$D$21,'Blind Sizes'!$F$5:$F$21,""),"") &"-"& _xlfn.IFNA(_xlfn.XLOOKUP(TRIM(B15),'Blind Sizes'!$D$5:$D$21,'Blind Sizes'!$G$5:$G$21,""),""))), _xlfn.IFNA(_xlfn.XLOOKUP(I15,'Product Code'!$B$3:$B$4,'Product Code'!$C$3:$C$4,""),""), IF($K15>0,"FLY",_xlfn.IFNA(_xlfn.XLOOKUP(J15,'Product Code'!$E$3:$E$5,'Product Code'!$F$3:$F$5,""),"")), _xlfn.IFNA(_xlfn.XLOOKUP(L15,'Product Code'!$H$3:$H$5,'Product Code'!$I$3:$I$5,""),""), _xlfn.IFNA(_xlfn.XLOOKUP(M15,'Product Code'!$K$3:$K$4,'Product Code'!$L$3:$L$4,""),""), _xlfn.IFNA(_xlfn.XLOOKUP(N15,'Product Code'!$N$3:$N$5,'Product Code'!$O$3:$O$5,""),""), IF(OR(O15="Yes",IFERROR(D15,0)>399,IFERROR(E15,0)>399),"D","")) -> SSI--
D16: =IF(AND(OR(H6=1,H7=1,H8=1,H9=1,H10=1,H11=1,H12=1,H13=1,H14=1,H15=1),OR(F6>800,F7>800,F8>800,F9>800,F10>800,F11>800,F12>800,F13>800,F14>800,F15>800)),"Full Travel Blinds Have A Max Drop of 800mm, Over This Will Need To Be Meet In The Middle","") | M16: {=IF(SUMPRODUCT(--(TRIM(UPPER(M6:M15))="NONE"), --((TRIM(UPPER(N6:N15))="LINER") + (TRIM(UPPER(N6:N15))="SEAL")))>0, "If Liner Or Seal Requested, Then A Radius Is Required","")} | O16: {=IF(AND(SUMPRODUCT(--(IFERROR(D6:E15,0)>399))>0, COUNTIF(O6:O15,"No")>0), "Blinds Over 399mm Width Are Supplied With A Damper", "")}
A17: Measurements should be aperture size - please see our website
A18: Notes | P18: Date
P19: Customer Name
P20: Customer Email
P21: Customer Tel. Number
P23: Customer Address

Sheet Product Code
B2: Hardware colour | C2: Code | E2: Fabric Colour | F2: Code | H2: Format | I2: Code | K2: Corner | N2: Liner | R2: Size Limits
B3: Ivory | C3: IVY | E3: Custom | F3: CUS | H3: Blackout/Fly - Full Travel | K3: None | N3: Liner | O3: L | R3: Aperture | T3: External
B4: White | C4: WHT | E4: Ivory | F4: IVY | H4: Blackout/Blackout - Meet in Middle | I4: BB | K4: R42 | L4: R42 | N4: Seal | O4: S | R4: Min | S4: Max | T4: Min | U4: Max
E5: White | F5: WHT | H5: Fly/Fly - Meet in Middle | I5: FF | N5: None | Q5: W | R5: =IF('Enquiry Form'!B6="External",179,150) -> 150 | S5: =IF('Enquiry Form'!B6="External",928,800) -> 800 | T5: =150+29 -> 179 | U5: =800+29 -> 829
Q6: H | R6: =IF('Enquiry Form'!B6="External",129,100) -> 100 | S6: =IF('Enquiry Form'!B6="External",1052,1000) -> 1000 | T6: =100+29 -> 129 | U6: =1000+52 -> 1052

Sheet Blind Sizes
C2: Product | D2: Make | E2: Code | F2: W (mm) | G2: H (mm)
D3: Aperture
D4: External
C5: Seascreen Integrated | D5: Lewmar 10 | E5: L10 | F5: 260 | G5: 260
C6: Seascreen Integrated | D6: Lewmar 20 | E6: L20 | F6: 347 | G6: 202
C7: Seascreen Integrated | D7: Lewmar 30 | E7: L30 | F7: 457 | G7: 327
C8: Seascreen Integrated | D8: Lewmar 40 | E8: L40 | F8: 421 | G8: 421
C9: Seascreen Integrated | D9: Lewmar 44 | E9: L44 | F9: 442 | G9: 442
C10: Seascreen Integrated | D10: Lewmar 50 | E10: L50 | F10: 507 | G10: 377
C11: Seascreen Integrated | D11: Lewmar 54 | E11: L54 | F11: 507 | G11: 392
C12: Seascreen Integrated | D12: Lewmar 60 | E12: L60 | F12: 507 | G12: 507
C13: Seascreen Integrated | D13: Lewmar 70 | E13: L70 | F13: 627 | G13: 627
C14: Seascreen Integrated | D14: Lewmar 77 | E14: L77 | F14: 699 | G14: 699
C15: Seascreen Integrated | D15: Bowmar 1000 | E15: B1000 | F15: 273 | G15: 273
C16: Seascreen Integrated | D16: Bowmar 1011 | E16: B1011 | F16: 365 | G16: 232
... C21: Seascreen Integrated | D21: Bowmar 1080 | E21: B1080 | F21: 470 | G21: 470
